BEGIN:VCALENDAR
VERSION:2.0
METHOD:PUBLISH
BEGIN:VEVENT
DTSTART;TZID=Asia/Tokyo:20260604T130000
DTEND;TZID=Asia/Tokyo:20260604T133000
SUMMARY:ジェミーナ配合錠オンライン講演会【ノーベルファーマ株式会社】
LOCATION:
CATEGORIES:テキスト
DESCRIPTION:●ジェミーナ配合錠オンライン講演会\n\n日時：2026年6月4日（木）13：00～13：30\n演題：痛みの先にある力を引き出す\n　　　―月経困難症に対する新しい医療が拓く患者エンパワーメントの実践―\n演者：山梨大学医学部 産婦人科 教授　吉野 修 先生\n\nhttps://jemina.nobelpark.jp/seminar/web_20260604.html\n\n共催：あすか製薬株式会社、ノーベルファーマ株式会社

DTSTAMP:202604
BEGIN:VALARM
ACTION:DISPLAY
CLASS:PUBLIC
TRIGGER:-PT15M
END:VALARM
END:VEVENT
END:VCALENDAR